BEGIN:VCALENDAR
VERSION:2.0
PRODID:-//Karnevalsgesellschaft &quot;Rot-Weiss&quot; Malberg 1934 e.V. - ECPv6.15.20//NONSGML v1.0//EN
CALSCALE:GREGORIAN
METHOD:PUBLISH
X-WR-CALNAME:Karnevalsgesellschaft &quot;Rot-Weiss&quot; Malberg 1934 e.V.
X-ORIGINAL-URL:https://kg-malberg.de
X-WR-CALDESC:Veranstaltungen für Karnevalsgesellschaft &quot;Rot-Weiss&quot; Malberg 1934 e.V.
REFRESH-INTERVAL;VALUE=DURATION:PT1H
X-Robots-Tag:noindex
X-PUBLISHED-TTL:PT1H
BEGIN:VTIMEZONE
TZID:Europe/Berlin
BEGIN:DAYLIGHT
TZOFFSETFROM:+0100
TZOFFSETTO:+0200
TZNAME:CEST
DTSTART:20250330T010000
END:DAYLIGHT
BEGIN:STANDARD
TZOFFSETFROM:+0200
TZOFFSETTO:+0100
TZNAME:CET
DTSTART:20251026T010000
END:STANDARD
BEGIN:DAYLIGHT
TZOFFSETFROM:+0100
TZOFFSETTO:+0200
TZNAME:CEST
DTSTART:20260329T010000
END:DAYLIGHT
BEGIN:STANDARD
TZOFFSETFROM:+0200
TZOFFSETTO:+0100
TZNAME:CET
DTSTART:20261025T010000
END:STANDARD
BEGIN:DAYLIGHT
TZOFFSETFROM:+0100
TZOFFSETTO:+0200
TZNAME:CEST
DTSTART:20270328T010000
END:DAYLIGHT
BEGIN:STANDARD
TZOFFSETFROM:+0200
TZOFFSETTO:+0100
TZNAME:CET
DTSTART:20271031T010000
END:STANDARD
END:VTIMEZONE
BEGIN:VEVENT
DTSTART;TZID=Europe/Berlin:20261114T171100
DTEND;TZID=Europe/Berlin:20261114T235900
DTSTAMP:20260421T150414
CREATED:20211021T172320Z
LAST-MODIFIED:20260414T072757Z
UID:20837-1794676260-1794700740@kg-malberg.de
SUMMARY:Proklamation Karnevalsgesellschaft Morsbach e.V.
DESCRIPTION:Anreise erfolgt in Eigenregie!
URL:https://kg-malberg.de/event/proklamation-kg-morsbach-2g/
LOCATION:Kulturstätte Morsbach\, Hahner Straße 31\, Morsbach\, 51597
END:VEVENT
END:VCALENDAR