BEGIN:VCALENDAR
VERSION:2.0
PRODID:-//Karnevalsgesellschaft &quot;Rot-Weiss&quot; Malberg 1934 e.V. - ECPv6.15.20//NONSGML v1.0//EN
CALSCALE:GREGORIAN
METHOD:PUBLISH
X-ORIGINAL-URL:https://kg-malberg.de
X-WR-CALDESC:Veranstaltungen für Karnevalsgesellschaft &quot;Rot-Weiss&quot; Malberg 1934 e.V.
REFRESH-INTERVAL;VALUE=DURATION:PT1H
X-Robots-Tag:noindex
X-PUBLISHED-TTL:PT1H
BEGIN:VTIMEZONE
TZID:Europe/Berlin
BEGIN:DAYLIGHT
TZOFFSETFROM:+0100
TZOFFSETTO:+0200
TZNAME:CEST
DTSTART:20260329T010000
END:DAYLIGHT
BEGIN:STANDARD
TZOFFSETFROM:+0200
TZOFFSETTO:+0100
TZNAME:CET
DTSTART:20261025T010000
END:STANDARD
BEGIN:DAYLIGHT
TZOFFSETFROM:+0100
TZOFFSETTO:+0200
TZNAME:CEST
DTSTART:20270328T010000
END:DAYLIGHT
BEGIN:STANDARD
TZOFFSETFROM:+0200
TZOFFSETTO:+0100
TZNAME:CET
DTSTART:20271031T010000
END:STANDARD
BEGIN:DAYLIGHT
TZOFFSETFROM:+0100
TZOFFSETTO:+0200
TZNAME:CEST
DTSTART:20280326T010000
END:DAYLIGHT
BEGIN:STANDARD
TZOFFSETFROM:+0200
TZOFFSETTO:+0100
TZNAME:CET
DTSTART:20281029T010000
END:STANDARD
END:VTIMEZONE
BEGIN:VEVENT
DTSTART;TZID=Europe/Berlin:20270130T191100
DTEND;TZID=Europe/Berlin:20270130T235900
DTSTAMP:20260421T214722
CREATED:20230114T133507Z
LAST-MODIFIED:20260405T125941Z
UID:23063-1801336260-1801353540@kg-malberg.de
SUMMARY:Prunksitzung Malberg
DESCRIPTION:Eintrittspreise im Vorverkauf 8 € (u. V.)\, an der Abendkasse 10 € (u. V.). Vorverkaufsstellen werden zu gegebener Zeit bekannt gegeben.
URL:https://kg-malberg.de/event/prunksitzung-malberg/
LOCATION:Festplatz Malberg\, Malberg\, 57629\, Deutschland
END:VEVENT
END:VCALENDAR