BEGIN:VCALENDAR
VERSION:2.0
PRODID:-//Karnevalsgesellschaft &quot;Rot-Weiss&quot; Malberg 1934 e.V. - ECPv6.15.20//NONSGML v1.0//EN
CALSCALE:GREGORIAN
METHOD:PUBLISH
X-WR-CALNAME:Karnevalsgesellschaft &quot;Rot-Weiss&quot; Malberg 1934 e.V.
X-ORIGINAL-URL:https://kg-malberg.de
X-WR-CALDESC:Veranstaltungen für Karnevalsgesellschaft &quot;Rot-Weiss&quot; Malberg 1934 e.V.
REFRESH-INTERVAL;VALUE=DURATION:PT1H
X-Robots-Tag:noindex
X-PUBLISHED-TTL:PT1H
BEGIN:VTIMEZONE
TZID:Europe/Berlin
BEGIN:DAYLIGHT
TZOFFSETFROM:+0100
TZOFFSETTO:+0200
TZNAME:CEST
DTSTART:20250330T010000
END:DAYLIGHT
BEGIN:STANDARD
TZOFFSETFROM:+0200
TZOFFSETTO:+0100
TZNAME:CET
DTSTART:20251026T010000
END:STANDARD
BEGIN:DAYLIGHT
TZOFFSETFROM:+0100
TZOFFSETTO:+0200
TZNAME:CEST
DTSTART:20260329T010000
END:DAYLIGHT
BEGIN:STANDARD
TZOFFSETFROM:+0200
TZOFFSETTO:+0100
TZNAME:CET
DTSTART:20261025T010000
END:STANDARD
BEGIN:DAYLIGHT
TZOFFSETFROM:+0100
TZOFFSETTO:+0200
TZNAME:CEST
DTSTART:20270328T010000
END:DAYLIGHT
BEGIN:STANDARD
TZOFFSETFROM:+0200
TZOFFSETTO:+0100
TZNAME:CET
DTSTART:20271031T010000
END:STANDARD
END:VTIMEZONE
BEGIN:VEVENT
DTSTART;TZID=Europe/Berlin:20261106T191100
DTEND;TZID=Europe/Berlin:20261106T235900
DTSTAMP:20260421T133018
CREATED:20211020T161208Z
LAST-MODIFIED:20260414T072655Z
UID:20782-1793992260-1794009540@kg-malberg.de
SUMMARY:Proklamation Fensdorfer Karnevals Club e.V. 
DESCRIPTION:Anreise erfolgt in Eigenregie über PKW!
URL:https://kg-malberg.de/event/sessionseroeffnung-fkc-fensdorf/
LOCATION:Bürgerhaus Fensdorf\, Feldstraße 16\, Fensdorf\, 57580
END:VEVENT
BEGIN:VEVENT
DTSTART;TZID=Europe/Berlin:20261114T171100
DTEND;TZID=Europe/Berlin:20261114T235900
DTSTAMP:20260421T133018
CREATED:20211021T172320Z
LAST-MODIFIED:20260414T072757Z
UID:20837-1794676260-1794700740@kg-malberg.de
SUMMARY:Proklamation Karnevalsgesellschaft Morsbach e.V.
DESCRIPTION:Anreise erfolgt in Eigenregie!
URL:https://kg-malberg.de/event/proklamation-kg-morsbach-2g/
LOCATION:Kulturstätte Morsbach\, Hahner Straße 31\, Morsbach\, 51597
END:VEVENT
BEGIN:VEVENT
DTSTART;TZID=Europe/Berlin:20261121T191100
DTEND;TZID=Europe/Berlin:20261121T235900
DTSTAMP:20260421T133018
CREATED:20211021T172406Z
LAST-MODIFIED:20260414T072857Z
UID:20839-1795288260-1795305540@kg-malberg.de
SUMMARY:Sessionseröffnung Hobby Carnevalisten Erbachtal 1982 e.V.
DESCRIPTION:Anreise erfolgt mit dem Omnibus.  \n\n\n\nTreffpunkt Bushaltestelle Steineberg & Hommelsberg um 18:30 Uhr!
URL:https://kg-malberg.de/event/proklamation-hce-erbachtal-2g/
LOCATION:Sportlerheim Eichelhardt\, Auf den Eichen 28\, Obererbach (Westerwald)\, 57612
END:VEVENT
BEGIN:VEVENT
DTSTART;TZID=Europe/Berlin:20261128T181100
DTEND;TZID=Europe/Berlin:20261128T235900
DTSTAMP:20260421T133018
CREATED:20211023T084038Z
LAST-MODIFIED:20260414T073017Z
UID:20894-1795889460-1795910340@kg-malberg.de
SUMMARY:Proklamation Karnevalsverein Scheuerfeld 1982 e.V.
DESCRIPTION:Anreise erfolgt mit dem Omnibus.  \n\n\n\nAbfahrt um 17:30 Uhr vom Festplatz Malberg!
URL:https://kg-malberg.de/event/proklamation-kv-scheuerfeld/
LOCATION:Hellgoldhalle Scheuerfeld\, Scheuerfeld\, 57584
END:VEVENT
END:VCALENDAR